BEGIN:VCALENDAR
VERSION:2.0
PRODID:-//Tharawat Family Business Forum
CALSCALE:GREGORIAN
METHOD:PUBLISH
X-WR-CALNAME:Tharawat Family Business Forum
X-ORIGINAL-URL:https://tharawat.org/event/investors-circle-february-2020/
X-WR-CALDESC:Tharawat Investors Circle
BEGIN:VEVENT
DTSTART:20200227T000000
DTEND:20200227T000000
SUMMARY:Tharawat Investors Circle
DESCRIPTION:The "Investors Circle" exclusively for Tharawat Members is a unique platform to discuss different key factors for sustainable investment.
LOCATION:Dubai, UAE
END:VEVENT
END:VCALENDAR
