BEGIN:VCALENDAR
VERSION:2.0
PRODID:-//Tharawat Family Business Forum
CALSCALE:GREGORIAN
METHOD:PUBLISH
X-WR-CALNAME:Tharawat Family Business Forum
X-ORIGINAL-URL:https://tharawat.org/event/global-trends-investment-outlook/
X-WR-CALDESC:Virtual Meeting | Tharawat Investors Circle &#8211; Global Trends and Investment Outlook
BEGIN:VEVENT
DTSTART:20220302T000000
DTEND:20220302T000000
SUMMARY:Virtual Meeting | Tharawat Investors Circle &#8211; Global Trends and Investment Outlook
DESCRIPTION:Session with the private investors about regional realities and how global trends impact our investment decision making.
LOCATION:
END:VEVENT
END:VCALENDAR
